BEGIN:VCALENDAR
VERSION:2.0
PRODID:-//Fleming County Chamber of Commerce - ECPv6.15.13.1//NONSGML v1.0//EN
CALSCALE:GREGORIAN
METHOD:PUBLISH
X-WR-CALNAME:Fleming County Chamber of Commerce
X-ORIGINAL-URL:https://flemingkychamber.com
X-WR-CALDESC:Events for Fleming County Chamber of Commerce
REFRESH-INTERVAL;VALUE=DURATION:PT1H
X-Robots-Tag:noindex
X-PUBLISHED-TTL:PT1H
BEGIN:VTIMEZONE
TZID:America/Kentucky/Louisville
BEGIN:DAYLIGHT
TZOFFSETFROM:-0500
TZOFFSETTO:-0400
TZNAME:EDT
DTSTART:20250309T070000
END:DAYLIGHT
BEGIN:STANDARD
TZOFFSETFROM:-0400
TZOFFSETTO:-0500
TZNAME:EST
DTSTART:20251102T060000
END:STANDARD
BEGIN:DAYLIGHT
TZOFFSETFROM:-0500
TZOFFSETTO:-0400
TZNAME:EDT
DTSTART:20260308T070000
END:DAYLIGHT
BEGIN:STANDARD
TZOFFSETFROM:-0400
TZOFFSETTO:-0500
TZNAME:EST
DTSTART:20261101T060000
END:STANDARD
BEGIN:DAYLIGHT
TZOFFSETFROM:-0500
TZOFFSETTO:-0400
TZNAME:EDT
DTSTART:20270314T070000
END:DAYLIGHT
BEGIN:STANDARD
TZOFFSETFROM:-0400
TZOFFSETTO:-0500
TZNAME:EST
DTSTART:20271107T060000
END:STANDARD
END:VTIMEZONE
BEGIN:VEVENT
DTSTART;TZID=America/Kentucky/Louisville:20260506T090000
DTEND;TZID=America/Kentucky/Louisville:20260506T100000
DTSTAMP:20260418T112204
CREATED:20260102T164517Z
LAST-MODIFIED:20260102T164517Z
UID:251-1778058000-1778061600@flemingkychamber.com
SUMMARY:Chamber Directors Meeting
DESCRIPTION:
URL:https://flemingkychamber.com/?tribe_events=chamber-directors-meeting-4
LOCATION:Flemingsburg City Annex\, 164 Newman Park Wy.\, Flemingsburg\, KY\, 41041\, United States
END:VEVENT
BEGIN:VEVENT
DTSTART;TZID=America/Kentucky/Louisville:20260511T180000
DTEND;TZID=America/Kentucky/Louisville:20260511T190000
DTSTAMP:20260418T112204
CREATED:20260102T164807Z
LAST-MODIFIED:20260102T164807Z
UID:254-1778522400-1778526000@flemingkychamber.com
SUMMARY:Flemingsburg City Council Meeting
DESCRIPTION:
URL:https://flemingkychamber.com/?tribe_events=flemingsburg-city-council-meeting-5
LOCATION:Flemingsburg City Annex\, 164 Newman Park Wy.\, Flemingsburg\, KY\, 41041\, United States
END:VEVENT
BEGIN:VEVENT
DTSTART;TZID=America/Kentucky/Louisville:20260512T090000
DTEND;TZID=America/Kentucky/Louisville:20260512T100000
DTSTAMP:20260418T112204
CREATED:20260102T165033Z
LAST-MODIFIED:20260102T165033Z
UID:257-1778576400-1778580000@flemingkychamber.com
SUMMARY:Fleming County Fiscal Court Meeting
DESCRIPTION:
URL:https://flemingkychamber.com/?tribe_events=fleming-county-fiscal-court-meeting-5
LOCATION:Fleming County Courthouse\, 100 Court Sq\, Flemingsburg\, KY\, 41041\, United States
END:VEVENT
BEGIN:VEVENT
DTSTART;TZID=America/Kentucky/Louisville:20260603T090000
DTEND;TZID=America/Kentucky/Louisville:20260603T100000
DTSTAMP:20260418T112204
CREATED:20260102T165830Z
LAST-MODIFIED:20260102T165830Z
UID:261-1780477200-1780480800@flemingkychamber.com
SUMMARY:Chamber Directors Meeting
DESCRIPTION:
URL:https://flemingkychamber.com/?tribe_events=chamber-directors-meeting-5
LOCATION:Flemingsburg City Annex\, 164 Newman Park Wy.\, Flemingsburg\, KY\, 41041\, United States
END:VEVENT
BEGIN:VEVENT
DTSTART;TZID=America/Kentucky/Louisville:20260608T180000
DTEND;TZID=America/Kentucky/Louisville:20260608T190000
DTSTAMP:20260418T112204
CREATED:20260102T170008Z
LAST-MODIFIED:20260102T170008Z
UID:263-1780941600-1780945200@flemingkychamber.com
SUMMARY:Flemingsburg City Council Meeting
DESCRIPTION:
URL:https://flemingkychamber.com/?tribe_events=flemingsburg-city-council-meeting-6
LOCATION:Flemingsburg City Annex\, 164 Newman Park Wy.\, Flemingsburg\, KY\, 41041\, United States
END:VEVENT
BEGIN:VEVENT
DTSTART;TZID=America/Kentucky/Louisville:20260609T090000
DTEND;TZID=America/Kentucky/Louisville:20260609T100000
DTSTAMP:20260418T112204
CREATED:20260102T170156Z
LAST-MODIFIED:20260102T170156Z
UID:266-1780995600-1780999200@flemingkychamber.com
SUMMARY:Fleming County Fiscal Court Meeting
DESCRIPTION:
URL:https://flemingkychamber.com/?tribe_events=fleming-county-fiscal-court-meeting-6
LOCATION:Fleming County Courthouse\, 100 Court Sq\, Flemingsburg\, KY\, 41041\, United States
END:VEVENT
BEGIN:VEVENT
DTSTART;TZID=America/Kentucky/Louisville:20260701T090000
DTEND;TZID=America/Kentucky/Louisville:20260701T100000
DTSTAMP:20260418T112204
CREATED:20260102T170325Z
LAST-MODIFIED:20260102T170325Z
UID:269-1782896400-1782900000@flemingkychamber.com
SUMMARY:Chamber Directors Meeting
DESCRIPTION:
URL:https://flemingkychamber.com/?tribe_events=chamber-directors-meeting-6
LOCATION:Flemingsburg City Annex\, 164 Newman Park Wy.\, Flemingsburg\, KY\, 41041\, United States
END:VEVENT
BEGIN:VEVENT
DTSTART;TZID=America/Kentucky/Louisville:20260713T180000
DTEND;TZID=America/Kentucky/Louisville:20260713T190000
DTSTAMP:20260418T112204
CREATED:20260102T170455Z
LAST-MODIFIED:20260102T170455Z
UID:272-1783965600-1783969200@flemingkychamber.com
SUMMARY:Flemingsburg City Council Meeting
DESCRIPTION:
URL:https://flemingkychamber.com/?tribe_events=flemingsburg-city-council-meeting-7
LOCATION:Flemingsburg City Annex\, 164 Newman Park Wy.\, Flemingsburg\, KY\, 41041\, United States
END:VEVENT
BEGIN:VEVENT
DTSTART;TZID=America/Kentucky/Louisville:20260714T090000
DTEND;TZID=America/Kentucky/Louisville:20260714T100000
DTSTAMP:20260418T112204
CREATED:20260102T170700Z
LAST-MODIFIED:20260102T170700Z
UID:275-1784019600-1784023200@flemingkychamber.com
SUMMARY:Fleming County Fiscal Court Meeting
DESCRIPTION:
URL:https://flemingkychamber.com/?tribe_events=fleming-county-fiscal-court-meeting-7
LOCATION:Fleming County Courthouse\, 100 Court Sq\, Flemingsburg\, KY\, 41041\, United States
END:VEVENT
BEGIN:VEVENT
DTSTART;TZID=America/Kentucky/Louisville:20260805T090000
DTEND;TZID=America/Kentucky/Louisville:20260805T100000
DTSTAMP:20260418T112204
CREATED:20260102T170912Z
LAST-MODIFIED:20260102T172043Z
UID:277-1785920400-1785924000@flemingkychamber.com
SUMMARY:Chamber Directors Meeting
DESCRIPTION:
URL:https://flemingkychamber.com/?tribe_events=chamber-directors-meeting-7
LOCATION:Flemingsburg City Annex\, 164 Newman Park Wy.\, Flemingsburg\, KY\, 41041\, United States
CATEGORIES:Chamber Directors Meeting
END:VEVENT
END:VCALENDAR